BEGIN:VCALENDAR
VERSION:2.0
PRODID:-//Abbekås Byalag - ECPv4.9.4//NONSGML v1.0//EN
CALSCALE:GREGORIAN
METHOD:PUBLISH
X-WR-CALNAME:Abbekås Byalag
X-ORIGINAL-URL:https://abbekasbyalag.se
X-WR-CALDESC:Händelser för Abbekås Byalag
BEGIN:VTIMEZONE
TZID:"UTC"
BEGIN:STANDARD
TZOFFSETFROM:+0000
TZOFFSETTO:+0000
TZNAME:UTC
DTSTART:20260101T000000
END:STANDARD
END:VTIMEZONE
BEGIN:VEVENT
DTSTART;TZID="UTC":20260322T150000
DTEND;TZID="UTC":20260322T170000
DTSTAMP:20260425T164506
CREATED:20260228T072356Z
LAST-MODIFIED:20260228T072356Z
UID:737-1774191600-1774198800@abbekasbyalag.se
SUMMARY:Årsmöte 2026
DESCRIPTION:Välkomna på Årsmöte 2026 \nVi ses i Byalagslokalen den 22 mars klockan 15.00\, byalaget bjuder på fika. \nVälkomna! \n \n
URL:https://abbekasbyalag.se/event/arsmote-2026/
END:VEVENT
END:VCALENDAR