BEGIN:VCALENDAR
VERSION:2.0
PRODID:-//Abbekås Byalag - ECPv4.9.4//NONSGML v1.0//EN
CALSCALE:GREGORIAN
METHOD:PUBLISH
X-WR-CALNAME:Abbekås Byalag
X-ORIGINAL-URL:https://abbekasbyalag.se
X-WR-CALDESC:Händelser för Abbekås Byalag
BEGIN:VTIMEZONE
TZID:"UTC"
BEGIN:STANDARD
TZOFFSETFROM:+0000
TZOFFSETTO:+0000
TZNAME:UTC
DTSTART:20250101T000000
END:STANDARD
END:VTIMEZONE
BEGIN:VEVENT
DTSTART;TZID="UTC":20251012T140000
DTEND;TZID="UTC":20251012T160000
DTSTAMP:20260425T210438
CREATED:20250924T072853Z
LAST-MODIFIED:20250924T072853Z
UID:722-1760277600-1760284800@abbekasbyalag.se
SUMMARY:Föredrag med Ewa Gun Westford
DESCRIPTION:\nVälkomna på föredrag med Ewa Gun Westford!\n\n\n\nEwa Gun är fd polisinformatör och polis. Under två timmar ger hon oss ökad insyn och förståelse kring hur det var att vara kvinnlig polis på 70-talet och framåt. Vi får ta del av spännande information kring spaning\, olika insatser samt brottbeskämning.\n\n\nFöredraget hålls i Byalagets lokal\, söndagen den 12 oktober klockan 14.00-16.00.\nByalaget bjuder på kaffe och kaka.\nPris 50 kr (betalas på plats).\nAnmälan till jim.berg57@outlook.com\n\n\nVälkomna! \n\n
URL:https://abbekasbyalag.se/event/foredrag-med-ewa-gun-westford/
END:VEVENT
END:VCALENDAR