BEGIN:VCALENDAR
VERSION:2.0
PRODID:-//Abbekås Byalag - ECPv4.9.4//NONSGML v1.0//EN
CALSCALE:GREGORIAN
METHOD:PUBLISH
X-WR-CALNAME:Abbekås Byalag
X-ORIGINAL-URL:https://abbekasbyalag.se
X-WR-CALDESC:Händelser för Abbekås Byalag
BEGIN:VTIMEZONE
TZID:"UTC"
BEGIN:STANDARD
TZOFFSETFROM:+0000
TZOFFSETTO:+0000
TZNAME:UTC
DTSTART:20250101T000000
END:STANDARD
END:VTIMEZONE
BEGIN:VEVENT
DTSTART;VALUE=DATE:20250628
DTEND;VALUE=DATE:20250629
DTSTAMP:20260425T235319
CREATED:20250528T104755Z
LAST-MODIFIED:20250620T071052Z
UID:707-1751068800-1751155199@abbekasbyalag.se
SUMMARY:Garageloppis 28 juni
DESCRIPTION:Loppiskarta 2025\nHar du något hemma du vill sälja? \nPassa på när Bygalaget anordnar garageloppis i byn! \nAlla som vill delta säljer på sin egen tomt\, Byalaget gör en karta över alla säljare samt marknadsför eventet i sociala medier och med en annons i Ystad Allehanda. \nAnmälan sker till Ewa (073-923 88 43) senast den 20 juni. \nFör att hamna på kartan ska du också vara medlem i Byalaget. \nVälkommen med din anmälan! \n
URL:https://abbekasbyalag.se/event/garageloppis-28-juni/
END:VEVENT
END:VCALENDAR