BEGIN:VCALENDAR
VERSION:2.0
PRODID:-//Abbekås Byalag - ECPv4.9.4//NONSGML v1.0//EN
CALSCALE:GREGORIAN
METHOD:PUBLISH
X-WR-CALNAME:Abbekås Byalag
X-ORIGINAL-URL:https://abbekasbyalag.se
X-WR-CALDESC:Händelser för Abbekås Byalag
BEGIN:VTIMEZONE
TZID:"UTC"
BEGIN:STANDARD
TZOFFSETFROM:+0000
TZOFFSETTO:+0000
TZNAME:UTC
DTSTART:20250101T000000
END:STANDARD
END:VTIMEZONE
BEGIN:VEVENT
DTSTART;TZID="UTC":20251102T160000
DTEND;TZID="UTC":20251102T180000
DTSTAMP:20260425T193949
CREATED:20250924T073106Z
LAST-MODIFIED:20250924T073106Z
UID:724-1762099200-1762106400@abbekasbyalag.se
SUMMARY:Halloweendisco
DESCRIPTION:Halloweendisco i Byalagslokalen \nMer info kommer på facebooksidan när det närmar sig 🙂 \n
URL:https://abbekasbyalag.se/event/halloweendisco/
END:VEVENT
END:VCALENDAR