BEGIN:VCALENDAR
VERSION:2.0
PRODID:-//Abbekås Byalag - ECPv4.9.4//NONSGML v1.0//EN
CALSCALE:GREGORIAN
METHOD:PUBLISH
X-WR-CALNAME:Abbekås Byalag
X-ORIGINAL-URL:https://abbekasbyalag.se
X-WR-CALDESC:Händelser för Abbekås Byalag
BEGIN:VTIMEZONE
TZID:"UTC"
BEGIN:STANDARD
TZOFFSETFROM:+0000
TZOFFSETTO:+0000
TZNAME:UTC
DTSTART:20250101T000000
END:STANDARD
END:VTIMEZONE
BEGIN:VEVENT
DTSTART;TZID="UTC":20250628T100000
DTEND;TZID="UTC":20250628T160000
DTSTAMP:20260425T222039
CREATED:20250620T071311Z
LAST-MODIFIED:20250620T071311Z
UID:717-1751104800-1751126400@abbekasbyalag.se
SUMMARY:Karta till garageloppis 28 juni
DESCRIPTION:Loppiskarta 2025\n
URL:https://abbekasbyalag.se/event/karta-till-garageloppis-28-juni/
END:VEVENT
END:VCALENDAR