BEGIN:VCALENDAR
VERSION:2.0
PRODID:-//Abbekås Byalag - ECPv4.9.4//NONSGML v1.0//EN
CALSCALE:GREGORIAN
METHOD:PUBLISH
X-WR-CALNAME:Abbekås Byalag
X-ORIGINAL-URL:https://abbekasbyalag.se
X-WR-CALDESC:Händelser för Abbekås Byalag
BEGIN:VTIMEZONE
TZID:"UTC"
BEGIN:STANDARD
TZOFFSETFROM:+0000
TZOFFSETTO:+0000
TZNAME:UTC
DTSTART:20250101T000000
END:STANDARD
END:VTIMEZONE
BEGIN:VEVENT
DTSTART;TZID="UTC":20250620T140000
DTEND;TZID="UTC":20250620T170000
DTSTAMP:20260426T011453
CREATED:20250528T104410Z
LAST-MODIFIED:20250528T104410Z
UID:704-1750428000-1750438800@abbekasbyalag.se
SUMMARY:Midsommarfirande på Vabacken
DESCRIPTION:Fredagen den 20/6 är det dags för midsommarfirande på Vabacken! \nKlockan 10 träffas vi och klär stången – ta gärna med blommor. \nKlockan 14 startar firandet med musik och dans! Ole Andersson spelar traditionella midsommar sånger. \nByalaget finns på plats och säljer lotter – du kan vinna finfina priser! 🙂 \nTag gärna med egen picknickkorg och slå er ner i gräset! \nVälkomna! \n(Vabacken är gräsytan vid lekplatsen innanför Nils Holgerssons väg) \n \n
URL:https://abbekasbyalag.se/event/midsommarfirande-pa-vabacken/
END:VEVENT
END:VCALENDAR