BEGIN:VCALENDAR
VERSION:2.0
PRODID:-//Abbekås Byalag - ECPv4.9.4//NONSGML v1.0//EN
CALSCALE:GREGORIAN
METHOD:PUBLISH
X-WR-CALNAME:Abbekås Byalag
X-ORIGINAL-URL:https://abbekasbyalag.se
X-WR-CALDESC:Händelser för Abbekås Byalag
BEGIN:VTIMEZONE
TZID:"UTC"
BEGIN:STANDARD
TZOFFSETFROM:+0000
TZOFFSETTO:+0000
TZNAME:UTC
DTSTART:20250101T000000
END:STANDARD
END:VTIMEZONE
BEGIN:VEVENT
DTSTART;TZID="UTC":20250711T173000
DTEND;TZID="UTC":20250711T203000
DTSTAMP:20260425T221503
CREATED:20250528T105048Z
LAST-MODIFIED:20250528T105048Z
UID:709-1752255000-1752265800@abbekasbyalag.se
SUMMARY:Quiz på Dinah´s 11 juli
DESCRIPTION:För andra året i rad anordnar vi en härlig kväll med musik och quiz (två och två) med Anders Hahne. \nInsläpp från 17.30 – kom gärna i god tid om ni vill äta något! Underhållning från ca 18.30. Deltagandet är fritt för medlemmar i Byalaget. Mat och dryck betalar ni själva. \nAnmälan till Ewa: 073-923 88 43 \nFörst till kvarn! \n
URL:https://abbekasbyalag.se/event/quiz-pa-dinahs-11-juli/
END:VEVENT
END:VCALENDAR