BEGIN:VCALENDAR
VERSION:2.0
PRODID:-//Abbekås Byalag - ECPv4.9.4//NONSGML v1.0//EN
CALSCALE:GREGORIAN
METHOD:PUBLISH
X-WR-CALNAME:Abbekås Byalag
X-ORIGINAL-URL:https://abbekasbyalag.se
X-WR-CALDESC:Händelser för Abbekås Byalag
BEGIN:VTIMEZONE
TZID:"UTC"
BEGIN:STANDARD
TZOFFSETFROM:+0000
TZOFFSETTO:+0000
TZNAME:UTC
DTSTART:20260101T000000
END:STANDARD
END:VTIMEZONE
BEGIN:VEVENT
DTSTART;TZID="UTC":20260405T100000
DTEND;TZID="UTC":20260405T120000
DTSTAMP:20260425T132532
CREATED:20260329T090538Z
LAST-MODIFIED:20260329T090538Z
UID:760-1775383200-1775390400@abbekasbyalag.se
SUMMARY:Äggarullning 2026
DESCRIPTION:Äggarullning på Vabacken 5 april 2026!\n\nMåla ditt ägg och rulla nedför backen – vem kommer närmast tuppen? Barnföreningen är på plats från klockan 10.00 på Vabacken\, alla barn får möjlighet att måla sitt ägg\, vi bjuder på fika och barnen kan leka på lekplatsen en stund. När klockan blir 11.00 är det dags för äggarullning! Har vi tur så kommer Påskharen och hans kompis Kycklingen på besök och lämnar en överraskning till alla medverkande barn! \nIn och anmäl er på nedan länk:https://forms.microsoft.com/e/cFLvgJPs9n\nOBS! Barnen behöver inte ta med egna ägg\, allt sånt fixar vi! Välkomna!\n
URL:https://abbekasbyalag.se/event/aggarullning-2026/
END:VEVENT
END:VCALENDAR